BEGIN:VCALENDAR
VERSION:2.0
PRODID:-//wp-events-plugin.com//7.2.3.1//EN
BEGIN:VEVENT
UID:104@musikverein-steinheim.de
DTSTART:20260516T220000Z
DTEND:20260516T220000Z
DTSTAMP:20260120T095756Z
URL:https://www.musikverein-steinheim.de/events/kreisfeuerwehrtag/
SUMMARY:Kreisfeuerwehrtag
DESCRIPTION:150 Jahre Feuerwehr Sontheim/Brenz\n\nTeilnahme am Umzug und Un
 terhaltungsmusik im Festzelt
CATEGORIES:Fest,Unterhaltungsmusik
END:VEVENT
END:VCALENDAR